BEGIN:VCALENDAR
VERSION:2.0
PRODID:-//Lyndsey Stevenato Children&#039;s Therapy Services - ECPv6.15.14//NONSGML v1.0//EN
CALSCALE:GREGORIAN
METHOD:PUBLISH
X-ORIGINAL-URL:https://childrenstherapy.ca
X-WR-CALDESC:Events for Lyndsey Stevenato Children&#039;s Therapy Services
REFRESH-INTERVAL;VALUE=DURATION:PT1H
X-Robots-Tag:noindex
X-PUBLISHED-TTL:PT1H
BEGIN:VTIMEZONE
TZID:America/Halifax
BEGIN:DAYLIGHT
TZOFFSETFROM:-0400
TZOFFSETTO:-0300
TZNAME:ADT
DTSTART:20230312T060000
END:DAYLIGHT
BEGIN:STANDARD
TZOFFSETFROM:-0300
TZOFFSETTO:-0400
TZNAME:AST
DTSTART:20231105T050000
END:STANDARD
BEGIN:DAYLIGHT
TZOFFSETFROM:-0400
TZOFFSETTO:-0300
TZNAME:ADT
DTSTART:20240310T060000
END:DAYLIGHT
BEGIN:STANDARD
TZOFFSETFROM:-0300
TZOFFSETTO:-0400
TZNAME:AST
DTSTART:20241103T050000
END:STANDARD
BEGIN:DAYLIGHT
TZOFFSETFROM:-0400
TZOFFSETTO:-0300
TZNAME:ADT
DTSTART:20250309T060000
END:DAYLIGHT
BEGIN:STANDARD
TZOFFSETFROM:-0300
TZOFFSETTO:-0400
TZNAME:AST
DTSTART:20251102T050000
END:STANDARD
END:VTIMEZONE
BEGIN:VEVENT
DTSTART;TZID=America/Halifax:20241005T130000
DTEND;TZID=America/Halifax:20241005T150000
DTSTAMP:20260423T160416
CREATED:20240829T144405Z
LAST-MODIFIED:20240903T174127Z
UID:22990339-1728133200-1728140400@childrenstherapy.ca
SUMMARY:The Science of Happiness | Ages 6-9
DESCRIPTION:Happiness Lab 1.0 – Workshop 1\nSingle Day Program\nCan happiness be learned? YES!\nThis workshop focuses on the scientific aspects of happiness and introduces positive psychology-based techniques to cultivate a happier life. Participants will explore key character skills that contribute to thriving through life\, fostering self-belief\, and gaining an understanding of what promotes personal flourishing. \nTopics Covered:\n1. Connections: Understanding the significance of relationships and how they contribute to happiness.\n2. Gratitude: Emphasizing the importance of taking time to express gratitude and its positive impact on the present moment.\n3. Growth: Exploring the joy of learning new skills and the resilience gained from attempting challenging tasks.\n4. Movement: Highlighting the role of physical activity in improving overall happiness. \n________________________________ \n$180.00\nAges 6-9\nSaturday October 5th\, 2024\n1:00pm – 3:00pm (2 Hours) \nBarrie Clinic – Suite 105 \nREGISTER HERE\nRegistration closes September 18th\, 2024
URL:https://childrenstherapy.ca/event/the-science-of-happiness-ages-6-9/
LOCATION:Barrie Clinic\, 115 Bell Farm Road\, Suite 114\, Barrie\, Ontario\, L4M 5G1\, Canada
CATEGORIES:Groups
END:VEVENT
BEGIN:VEVENT
DTSTART;TZID=America/Halifax:20241019T130000
DTEND;TZID=America/Halifax:20241019T150000
DTSTAMP:20260423T160416
CREATED:20240829T145359Z
LAST-MODIFIED:20240903T174151Z
UID:22990342-1729342800-1729350000@childrenstherapy.ca
SUMMARY:Thriving Through Life with Happiness Skills | Ages 6-9
DESCRIPTION:Happiness Lab 2.0 – Workshop 2\nSingle Day Program\nThis workshop delves deeper into practical applications of happiness skills\, empowering participants to incorporate these techniques into their daily lives. Through interactive activities and discussions\, attendees will gain hands-on experience in applying the key character skills discussed in Workshop 1. \nActivities and Focus Areas:\n1. Building Connections: Engaging in activities that foster meaningful connections with others.\n2. Gratitude Practice: Guided exercises to cultivate a habit of expressing gratitude regularly.\n3. Growth Mindset: Hands-on learning experiences to encourage the pursuit of new skills and challenges.\n4. Movement for Happiness: Incorporating enjoyable physical activities into daily routines for improved well-being. \nThis is PART 2 of the Happiness Lab series – Participants will have needed to complete Workshop 1 to benefit from this program\n________________________________ \n$180.00\nAges 6-9\nSaturday October 19th\, 2024\n1:00pm – 3:00pm (2 Hours) \nBarrie Clinic – Suite 105 \nREGISTER HERE\nRegistration closes September 18th\, 2024
URL:https://childrenstherapy.ca/event/thriving-through-life-with-happiness-skills-ages-6-9/
LOCATION:Barrie Clinic\, 115 Bell Farm Road\, Suite 114\, Barrie\, Ontario\, L4M 5G1\, Canada
CATEGORIES:Groups
END:VEVENT
END:VCALENDAR