BEGIN:VCALENDAR
VERSION:2.0
PRODID:-//Lyndsey Stevenato Children&#039;s Therapy Services - ECPv6.15.14//NONSGML v1.0//EN
CALSCALE:GREGORIAN
METHOD:PUBLISH
X-WR-CALNAME:Lyndsey Stevenato Children&#039;s Therapy Services
X-ORIGINAL-URL:https://childrenstherapy.ca
X-WR-CALDESC:Events for Lyndsey Stevenato Children&#039;s Therapy Services
REFRESH-INTERVAL;VALUE=DURATION:PT1H
X-Robots-Tag:noindex
X-PUBLISHED-TTL:PT1H
BEGIN:VTIMEZONE
TZID:America/Halifax
BEGIN:DAYLIGHT
TZOFFSETFROM:-0400
TZOFFSETTO:-0300
TZNAME:ADT
DTSTART:20230312T060000
END:DAYLIGHT
BEGIN:STANDARD
TZOFFSETFROM:-0300
TZOFFSETTO:-0400
TZNAME:AST
DTSTART:20231105T050000
END:STANDARD
BEGIN:DAYLIGHT
TZOFFSETFROM:-0400
TZOFFSETTO:-0300
TZNAME:ADT
DTSTART:20240310T060000
END:DAYLIGHT
BEGIN:STANDARD
TZOFFSETFROM:-0300
TZOFFSETTO:-0400
TZNAME:AST
DTSTART:20241103T050000
END:STANDARD
BEGIN:DAYLIGHT
TZOFFSETFROM:-0400
TZOFFSETTO:-0300
TZNAME:ADT
DTSTART:20250309T060000
END:DAYLIGHT
BEGIN:STANDARD
TZOFFSETFROM:-0300
TZOFFSETTO:-0400
TZNAME:AST
DTSTART:20251102T050000
END:STANDARD
END:VTIMEZONE
BEGIN:VEVENT
DTSTART;TZID=America/Halifax:20241221T130000
DTEND;TZID=America/Halifax:20241221T150000
DTSTAMP:20260421T073818
CREATED:20240829T150559Z
LAST-MODIFIED:20241113T192613Z
UID:22990351-1734786000-1734793200@childrenstherapy.ca
SUMMARY:Thriving Through Life with Happiness Skills | Ages 10-12
DESCRIPTION:Happiness Lab 2.0 – Workshop 2\nSingle Day Program\nThis workshop delves deeper into practical applications of happiness skills\, empowering participants to incorporate these techniques into their daily lives. Through interactive activities and discussions\, attendees will gain hands-on experience in applying the key character skills discussed in Workshop 1. \nActivities and Focus Areas:\n1. Building Connections: Engaging in activities that foster meaningful connections with others.\n2. Gratitude Practice: Guided exercises to cultivate a habit of expressing gratitude regularly.\n3. Growth Mindset: Hands-on learning experiences to encourage the pursuit of new skills and challenges.\n4. Movement for Happiness: Incorporating enjoyable physical activities into daily routines for improved well-being. \nThis is PART 2 of the Happiness Lab series – Participants will have needed to complete Workshop 1 to benefit from this program\n________________________________ \n$180.00\nAges 10-12\nSaturday December 21st\, 2024\n1:00pm – 3:00pm (2 Hours) \nBarrie Clinic – Suite 105 \nREGISTER HERE\nRegistration closes November 29th\, 2024
URL:https://childrenstherapy.ca/event/thriving-through-life-with-happiness-skills-ages-10-12/
LOCATION:Barrie Clinic\, 115 Bell Farm Road\, Suite 114\, Barrie\, Ontario\, L4M 5G1\, Canada
CATEGORIES:Groups
END:VEVENT
END:VCALENDAR