BEGIN:VCALENDAR
VERSION:2.0
PRODID:-//Lyndsey Stevenato Children&#039;s Therapy Services - ECPv6.15.14//NONSGML v1.0//EN
CALSCALE:GREGORIAN
METHOD:PUBLISH
X-WR-CALNAME:Lyndsey Stevenato Children&#039;s Therapy Services
X-ORIGINAL-URL:https://childrenstherapy.ca
X-WR-CALDESC:Events for Lyndsey Stevenato Children&#039;s Therapy Services
REFRESH-INTERVAL;VALUE=DURATION:PT1H
X-Robots-Tag:noindex
X-PUBLISHED-TTL:PT1H
BEGIN:VTIMEZONE
TZID:America/Halifax
BEGIN:DAYLIGHT
TZOFFSETFROM:-0400
TZOFFSETTO:-0300
TZNAME:ADT
DTSTART:20220313T060000
END:DAYLIGHT
BEGIN:STANDARD
TZOFFSETFROM:-0300
TZOFFSETTO:-0400
TZNAME:AST
DTSTART:20221106T050000
END:STANDARD
BEGIN:DAYLIGHT
TZOFFSETFROM:-0400
TZOFFSETTO:-0300
TZNAME:ADT
DTSTART:20230312T060000
END:DAYLIGHT
BEGIN:STANDARD
TZOFFSETFROM:-0300
TZOFFSETTO:-0400
TZNAME:AST
DTSTART:20231105T050000
END:STANDARD
BEGIN:DAYLIGHT
TZOFFSETFROM:-0400
TZOFFSETTO:-0300
TZNAME:ADT
DTSTART:20240310T060000
END:DAYLIGHT
BEGIN:STANDARD
TZOFFSETFROM:-0300
TZOFFSETTO:-0400
TZNAME:AST
DTSTART:20241103T050000
END:STANDARD
END:VTIMEZONE
BEGIN:VEVENT
DTSTART;VALUE=DATE:20231201
DTEND;VALUE=DATE:20231223
DTSTAMP:20260421T013938
CREATED:20231206T224222Z
LAST-MODIFIED:20240123T164411Z
UID:22989943-1701388800-1703289599@childrenstherapy.ca
SUMMARY:"Building Self-Regulation Starts with Co-Regulation" - For Parents & Caregivers
DESCRIPTION:“Building Self-Regulation Starts with Co-Regulation” | Virtual Group for Parents & Caregivers\nA 4 week virtual parent/caregiver group for parents to discuss co-regulation and some of the strategies to help support regulation in children. Facilitated by an experienced Occupational Therapy Assistant. \n_____________________ \n$100.00\nJanuary 23rd – February 13th\, 2024 (4 Weeks)\nTuesdays  |  12:30 – 1:30pm (1 Hr)\nVIRTUAL\n_____________________ \nREGISTER HERE \n\nRegistration closes January 12th\, 2024 at noon.
URL:https://childrenstherapy.ca/event/building-self-regulation-starts-with-co-regulation-for-parents-caregivers/
LOCATION:Ontario
CATEGORIES:Groups
END:VEVENT
END:VCALENDAR