BEGIN:VCALENDAR
VERSION:2.0
PRODID:-//Lyndsey Stevenato Children&#039;s Therapy Services - ECPv6.15.14//NONSGML v1.0//EN
CALSCALE:GREGORIAN
METHOD:PUBLISH
X-ORIGINAL-URL:https://childrenstherapy.ca
X-WR-CALDESC:Events for Lyndsey Stevenato Children&#039;s Therapy Services
REFRESH-INTERVAL;VALUE=DURATION:PT1H
X-Robots-Tag:noindex
X-PUBLISHED-TTL:PT1H
BEGIN:VTIMEZONE
TZID:America/Halifax
BEGIN:DAYLIGHT
TZOFFSETFROM:-0400
TZOFFSETTO:-0300
TZNAME:ADT
DTSTART:20220313T060000
END:DAYLIGHT
BEGIN:STANDARD
TZOFFSETFROM:-0300
TZOFFSETTO:-0400
TZNAME:AST
DTSTART:20221106T050000
END:STANDARD
BEGIN:DAYLIGHT
TZOFFSETFROM:-0400
TZOFFSETTO:-0300
TZNAME:ADT
DTSTART:20230312T060000
END:DAYLIGHT
BEGIN:STANDARD
TZOFFSETFROM:-0300
TZOFFSETTO:-0400
TZNAME:AST
DTSTART:20231105T050000
END:STANDARD
BEGIN:DAYLIGHT
TZOFFSETFROM:-0400
TZOFFSETTO:-0300
TZNAME:ADT
DTSTART:20240310T060000
END:DAYLIGHT
BEGIN:STANDARD
TZOFFSETFROM:-0300
TZOFFSETTO:-0400
TZNAME:AST
DTSTART:20241103T050000
END:STANDARD
END:VTIMEZONE
BEGIN:VEVENT
DTSTART;VALUE=DATE:20230930
DTEND;VALUE=DATE:20231001
DTSTAMP:20260421T051804
CREATED:20230919T142708Z
LAST-MODIFIED:20231027T134737Z
UID:22989869-1696032000-1696118399@childrenstherapy.ca
SUMMARY:Aqua Group
DESCRIPTION:Aqua Group |  Ages 6-10\n\nJoin us for splashing fun!\nRun by our Physiotherapist Resident and located at the East Bayfield Community Centre\, on Livingstone Street in Barrie. \nWater fun can assist with the development of a number of gross motor skills\, muscle strength and balance. The buoyancy of water can assist with muscle relaxation. Join us for a multi-sensory approach using the therapeutic properties of water! \n  \n$390.00\nAges 6 – 10\nNovember 7th – December 12th\n4:00 – 5:00pm (1 Hour) \nREGISTER HERE\n  \nRegistration closes October 27th\, 2023 at noon.
URL:https://childrenstherapy.ca/event/aqua-group/
LOCATION:East Bayfield Community Centre\, 80 Livingstone St. E.\, Barrie\, ON
CATEGORIES:Groups
END:VEVENT
END:VCALENDAR