BEGIN:VCALENDAR
VERSION:2.0
PRODID:-//Lyndsey Stevenato Children&#039;s Therapy Services - ECPv6.15.14//NONSGML v1.0//EN
CALSCALE:GREGORIAN
METHOD:PUBLISH
X-WR-CALNAME:Lyndsey Stevenato Children&#039;s Therapy Services
X-ORIGINAL-URL:https://childrenstherapy.ca
X-WR-CALDESC:Events for Lyndsey Stevenato Children&#039;s Therapy Services
REFRESH-INTERVAL;VALUE=DURATION:PT1H
X-Robots-Tag:noindex
X-PUBLISHED-TTL:PT1H
BEGIN:VTIMEZONE
TZID:America/Halifax
BEGIN:DAYLIGHT
TZOFFSETFROM:-0400
TZOFFSETTO:-0300
TZNAME:ADT
DTSTART:20220313T060000
END:DAYLIGHT
BEGIN:STANDARD
TZOFFSETFROM:-0300
TZOFFSETTO:-0400
TZNAME:AST
DTSTART:20221106T050000
END:STANDARD
BEGIN:DAYLIGHT
TZOFFSETFROM:-0400
TZOFFSETTO:-0300
TZNAME:ADT
DTSTART:20230312T060000
END:DAYLIGHT
BEGIN:STANDARD
TZOFFSETFROM:-0300
TZOFFSETTO:-0400
TZNAME:AST
DTSTART:20231105T050000
END:STANDARD
BEGIN:DAYLIGHT
TZOFFSETFROM:-0400
TZOFFSETTO:-0300
TZNAME:ADT
DTSTART:20240310T060000
END:DAYLIGHT
BEGIN:STANDARD
TZOFFSETFROM:-0300
TZOFFSETTO:-0400
TZNAME:AST
DTSTART:20241103T050000
END:STANDARD
END:VTIMEZONE
BEGIN:VEVENT
DTSTART;VALUE=DATE:20230704
DTEND;VALUE=DATE:20230705
DTSTAMP:20260421T101856
CREATED:20230808T162146Z
LAST-MODIFIED:20230808T194735Z
UID:22989749-1688428800-1688515199@childrenstherapy.ca
SUMMARY:Printing without Tears - Parry Sound
DESCRIPTION:Printing without Tears – Barrie Clinic \nThis will be an 8 week group program designed to help your child build confidence in their printing skills. Our small group setting will enable your child to get individualized attention and instruction from an Occupational Therapy Assistant. \nMore Information to follow. \n  \nDuration: 8 Weeks \nCost: $440.00
URL:https://childrenstherapy.ca/event/printing-without-tears-parry-sound/
LOCATION:Parry Sound Clinic\, 72 Church Street\, Parry Sound\, ON\, Canada
CATEGORIES:Groups
END:VEVENT
BEGIN:VEVENT
DTSTART;VALUE=DATE:20230704
DTEND;VALUE=DATE:20230705
DTSTAMP:20260421T101856
CREATED:20230808T164636Z
LAST-MODIFIED:20230808T194703Z
UID:22989752-1688428800-1688515199@childrenstherapy.ca
SUMMARY:“How Does Your Engine Run” - Self-Regulation Group (Parry Sound)
DESCRIPTION:“How Does Your Engine Run” – Self-Regulation Group \nCoaching kids on how to monitor & manage their emotions & behaviour. The group will use the Alert® framework to increase self-awareness of emotions\, and teach adaptable strategies for managing emotions and impulses. \n  \nThe program will also teach skills such as: Taking other’s perspectives\, Understanding what is expected and unexpected behaviour\, How one’s behaviour can impact thoughts and feelings of others. \n  \n*Parents are required to attend last session with OT to review concepts & strategies & \nhow to transition skills to home\, while children review strategies with our volunteers.* \nAges 5-7 \n8 Weeks \n$440.00
URL:https://childrenstherapy.ca/event/how-does-your-engine-run-self-regulation-group-parry-sound/
LOCATION:Parry Sound Clinic\, 72 Church Street\, Parry Sound\, ON\, Canada
CATEGORIES:Groups
END:VEVENT
END:VCALENDAR